BEGIN:VCALENDAR
VERSION:2.0
PRODID:-//NOW | Northeast Opportunities for Wellness - ECPv6.15.17//NONSGML v1.0//EN
CALSCALE:GREGORIAN
METHOD:PUBLISH
X-ORIGINAL-URL:https://www.nowinmotion.org
X-WR-CALDESC:Events for NOW | Northeast Opportunities for Wellness
REFRESH-INTERVAL;VALUE=DURATION:PT1H
X-Robots-Tag:noindex
X-PUBLISHED-TTL:PT1H
BEGIN:VTIMEZONE
TZID:America/Denver
BEGIN:DAYLIGHT
TZOFFSETFROM:-0700
TZOFFSETTO:-0600
TZNAME:MDT
DTSTART:20230312T090000
END:DAYLIGHT
BEGIN:STANDARD
TZOFFSETFROM:-0600
TZOFFSETTO:-0700
TZNAME:MST
DTSTART:20231105T080000
END:STANDARD
BEGIN:DAYLIGHT
TZOFFSETFROM:-0700
TZOFFSETTO:-0600
TZNAME:MDT
DTSTART:20240310T090000
END:DAYLIGHT
BEGIN:STANDARD
TZOFFSETFROM:-0600
TZOFFSETTO:-0700
TZNAME:MST
DTSTART:20241103T080000
END:STANDARD
BEGIN:DAYLIGHT
TZOFFSETFROM:-0700
TZOFFSETTO:-0600
TZNAME:MDT
DTSTART:20250309T090000
END:DAYLIGHT
BEGIN:STANDARD
TZOFFSETFROM:-0600
TZOFFSETTO:-0700
TZNAME:MST
DTSTART:20251102T080000
END:STANDARD
END:VTIMEZONE
BEGIN:VEVENT
DTSTART;TZID=America/Denver:20240604T100000
DTEND;TZID=America/Denver:20240625T110000
DTSTAMP:20260424T084017
CREATED:20240503T183211Z
LAST-MODIFIED:20240503T183217Z
UID:4133-1717495200-1719313200@www.nowinmotion.org
SUMMARY:Baby Steps
DESCRIPTION:Baby Steps is a specially designed mommy walking program that focuses on the well-being of both moms and their little ones. This program provides a supportive and enjoyable environment for new mothers to stay active\, connect with other moms\, and bond with their babies. BabySteps is more than just a fitness program; it’s a community where moms can take small but meaningful steps toward a healthier and happier \n\n\n\n\n\n\n\n\n\n\nClick HERE to Register!!
URL:https://www.nowinmotion.org/event/baby-steps/
LOCATION:Prince Hill Park\, 33-95 Prince Hill Road\, Brooklyn\, Connecticut\, 06234\, United States
CATEGORIES:Playgroup
ATTACH;FMTTYPE=image/jpeg:https://www.nowinmotion.org/wp-content/uploads/2024/05/438680862_824316219720292_3521060915706384956_n-1.jpg
END:VEVENT
END:VCALENDAR